BEGIN:VCALENDAR
VERSION:2.0
PRODID:-//ExpressionEngine Easy iCalendar plugin//NONSGML v2.0.1//EN
X-WR-TIMEZONE:America/Chicago
X-WR-CALNAME:Upcoming Auctions
BEGIN:VEVENT
UID:94086
DTSTAMP:20221213T153700
DTSTART:20221213T153700
DTEND:20230104T183000
SUMMARY:Outdoor\, Die-Cast and Collectibles (dark green)
LOCATION:107 Cty Rd C\, Ellsworth\, WI 54011\, US
DESCRIPTION:Hines Online Facility 107 County Road C Ellsworth\, WI 54011 
 Open: Monday- Friday from 9am-5pm
URL:https://www.hinesauctionservice.com/auctions/detail/bw94086
SEQUENCE:1
END:VEVENT
END:VCALENDAR