BEGIN:VCALENDAR
VERSION:2.0
PRODID:-//ExpressionEngine Easy iCalendar plugin//NONSGML v2.0.1//EN
X-WR-TIMEZONE:America/Chicago
X-WR-CALNAME:Upcoming Auctions
BEGIN:VEVENT
UID:89031
DTSTAMP:20240329T100000
DTSTART:20240329T100000
DTEND:20240417T183000
SUMMARY:Woodworking Tools\, Shop\, Lawn & Garden (orange tag)
LOCATION:{location}
DESCRIPTION:Hines Online Facility 107 County Road C Ellsworth\, WI 54011 
 Open: Monday-Friday from 9am-5pm
URL:https://www.hinesauctionservice.com/auctions/detail/bw89031
SEQUENCE:1
END:VEVENT
END:VCALENDAR