BEGIN:VCALENDAR
VERSION:2.0
PRODID:-//ExpressionEngine Easy iCalendar plugin//NONSGML v2.0.1//EN
X-WR-TIMEZONE:America/Chicago
X-WR-CALNAME:Upcoming Auctions
BEGIN:VEVENT
UID:88261
DTSTAMP:20240813T100000
DTSTART:20240813T100000
DTEND:20240827T183000
SUMMARY:August Firearms\, Ammo\, Coins & Sporting
LOCATION:{location}
DESCRIPTION:Located at The Hines Online Facility 107 County Road C\, Ell
 sworth WI 54011. OPEN: Monday-Friday 9am-5pm
URL:https://www.hinesauctionservice.com/auctions/detail/bw88261
SEQUENCE:1
END:VEVENT
END:VCALENDAR