BEGIN:VCALENDAR
VERSION:2.0
PRODID:-//ExpressionEngine Easy iCalendar plugin//NONSGML v2.0.0//EN
X-WR-TIMEZONE:America/Chicago
X-WR-CALNAME:Upcoming Auctions
BEGIN:VEVENT
UID:47309
DTSTAMP:20200218T000000
DTSTART:20200218T000000
DTEND:20200304T183000
SUMMARY:Antiques\, Furniture\, Steel\, Coins and Jewelry
LOCATION:107 County Rd C\, ELLSWORTH\, WI 54011\, US
DESCRIPTION:Hines Online Facility 107 County Road C Ellsworth\, WI 54011 
 Open: Mon-Fri 9am-5pm
URL:https://www.hinesauctionservice.com/auctions/detail/bw47309
SEQUENCE:1
END:VEVENT
END:VCALENDAR