BEGIN:VCALENDAR
VERSION:2.0
PRODID:-//ExpressionEngine Easy iCalendar plugin//NONSGML v2.0.1//EN
X-WR-TIMEZONE:America/Chicago
X-WR-CALNAME:Upcoming Auctions
BEGIN:VEVENT
UID:41746
DTSTAMP:20190827T000000
DTSTART:20190827T000000
DTEND:20190911T183000
SUMMARY:Furniture\, Tools and Household
LOCATION:107 County Road C\, Ellsworth\, WI 54011\, US
DESCRIPTION:Hines Online Facility 107 County Road C Ellsworth\, WI 54011 
 Open: Monday-Friday 9am-5pm & Saturday 9am-12pm
URL:https://www.hinesauctionservice.com/auctions/detail/bw41746
SEQUENCE:1
END:VEVENT
END:VCALENDAR