BEGIN:VCALENDAR
VERSION:2.0
PRODID:-//ExpressionEngine Easy iCalendar plugin//NONSGML v2.0.1//EN
X-WR-TIMEZONE:America/Chicago
X-WR-CALNAME:Upcoming Auctions
BEGIN:VEVENT
UID:161105
DTSTAMP:20260424T100000
DTSTART:20260424T100000
DTEND:20260511T183000
SUMMARY:Recreational Vehicles\, Halloween\, Christmas & Tom Clark Figu
 rines
LOCATION:2172 90th St\, Somerset\, WI 54025\, US
DESCRIPTION:Located at 2172 90th St Somerset\, WI 54025. OPEN HOUSES: Wed
 nesday\, May 6th from 3-5pm & Monday\, May 11th from 3-5pm  
URL:https://www.hinesauctionservice.com/auctions/detail/bw161105
SEQUENCE:1
END:VEVENT
END:VCALENDAR