BEGIN:VCALENDAR
VERSION:2.0
PRODID:-//ExpressionEngine Easy iCalendar plugin//NONSGML v2.0.1//EN
X-WR-TIMEZONE:America/Chicago
X-WR-CALNAME:Upcoming Auctions
BEGIN:VEVENT
UID:160961
DTSTAMP:20260422T120000
DTSTART:20260422T120000
DTEND:20260505T183000
SUMMARY:2003 Chevy Pickup\, Camper\, Coins\, Tokens\, Toys\, BB Guns and 
 Antiques (purple tag)
LOCATION:107 County Road C\, Ellsworth\, WI 54011\, US
DESCRIPTION:Hines Online Facility 107 County Road C Ellsworth WI 54011
URL:https://www.hinesauctionservice.com/auctions/detail/bw160961
SEQUENCE:1
END:VEVENT
END:VCALENDAR