BEGIN:VCALENDAR
VERSION:2.0
PRODID:-//ExpressionEngine Easy iCalendar plugin//NONSGML v2.0.0//EN
X-WR-TIMEZONE:America/Chicago
X-WR-CALNAME:Upcoming Auctions
BEGIN:VEVENT
UID:154897
DTSTAMP:20260112T120000
DTSTART:20260112T120000
DTEND:20260129T183000
SUMMARY:Model Trains and Models #7 (hot pink tag)
LOCATION:107 County Road C\, Ellsworth\, WI 54011\, US
DESCRIPTION:107 County Road C Ellsworth WI 54011
URL:https://www.hinesauctionservice.com/auctions/detail/bw154897
SEQUENCE:1
END:VEVENT
END:VCALENDAR