BEGIN:VCALENDAR
VERSION:2.0
PRODID:-//ExpressionEngine Easy iCalendar plugin//NONSGML v2.0.0//EN
X-WR-TIMEZONE:America/Chicago
X-WR-CALNAME:Upcoming Auctions
BEGIN:VEVENT
UID:153687
DTSTAMP:20251218T100000
DTSTART:20251218T100000
DTEND:20260112T183000
SUMMARY:January Firearms\, Sporting & Coins
LOCATION:107 County Rd C\, Ellsworth\, WI 54011\, US
DESCRIPTION:Located at the Hines Online Facility 107 County Road C Ellsw
 orth WI 54011. OPEN HOUSE: Monday-Friday 9am-5pm
URL:https://www.hinesauctionservice.com/auctions/detail/bw153687
SEQUENCE:1
END:VEVENT
END:VCALENDAR