BEGIN:VCALENDAR
VERSION:2.0
PRODID:-//ExpressionEngine Easy iCalendar plugin//NONSGML v2.0.0//EN
X-WR-TIMEZONE:America/Chicago
X-WR-CALNAME:Upcoming Auctions
BEGIN:VEVENT
UID:153517
DTSTAMP:20251211T120000
DTSTART:20251211T120000
DTEND:20260106T183000
SUMMARY:Solstad European Cars and Car Parts (green)
LOCATION:107 County Road C\, Ellsworth\, WI 54011\, US
DESCRIPTION:Located at the Hines Online Facility - 107 County Rd C Ellsw
 orth\, WI 54011. OPEN HOUSES: Monday-Friday 9am-5pm
URL:https://www.hinesauctionservice.com/auctions/detail/bw153517
SEQUENCE:1
END:VEVENT
END:VCALENDAR