BEGIN:VCALENDAR
VERSION:2.0
PRODID:-//ExpressionEngine Easy iCalendar plugin//NONSGML v2.0.0//EN
X-WR-TIMEZONE:America/Chicago
X-WR-CALNAME:Upcoming Auctions
BEGIN:VEVENT
UID:153270
DTSTAMP:20251208T120000
DTSTART:20251208T120000
DTEND:20260115T183000
SUMMARY:Model Trains #6 and Models (blue tag)
LOCATION:107 County Road C\, Ellsworth\, WI 54011\, US
DESCRIPTION:107 County Road C Ellsworth WI 54011
URL:https://www.hinesauctionservice.com/auctions/detail/bw153270
SEQUENCE:1
END:VEVENT
END:VCALENDAR