BEGIN:VCALENDAR
VERSION:2.0
PRODID:-//ExpressionEngine Easy iCalendar plugin//NONSGML v2.0.1//EN
X-WR-TIMEZONE:America/Chicago
X-WR-CALNAME:Upcoming Auctions
BEGIN:VEVENT
UID:153181
DTSTAMP:20251204T120000
DTSTART:20251204T120000
DTEND:20260107T183000
SUMMARY:Sterling Silver\, BB Guns\, New Knives\, Sports Card and Collec
 tibles (red tag)
LOCATION:107 County Road C\, Ellsworth\, WI 54011\, US
DESCRIPTION:107 County Road C Ellsworth WI 54011
URL:https://www.hinesauctionservice.com/auctions/detail/bw153181
SEQUENCE:1
END:VEVENT
END:VCALENDAR