BEGIN:VCALENDAR
VERSION:2.0
PRODID:-//ExpressionEngine Easy iCalendar plugin//NONSGML v2.0.0//EN
X-WR-TIMEZONE:America/Chicago
X-WR-CALNAME:Upcoming Auctions
BEGIN:VEVENT
UID:152997
DTSTAMP:20251201T100000
DTSTART:20251201T100000
DTEND:20251217T183000
SUMMARY:NELA-USA - Shop Liquidation
LOCATION:610 Whitetail Blvd\, River Falls\, WI 54022\, US
DESCRIPTION:Located at 610 Whitetail Blvd River Falls\, WI 54022. OPEN HO
 USES: Friday\, December 12th from 2-4pm & Wednesday\, December
  17th from 2-4pm
URL:https://www.hinesauctionservice.com/auctions/detail/bw152997
SEQUENCE:1
END:VEVENT
END:VCALENDAR