BEGIN:VCALENDAR
VERSION:2.0
PRODID:-//ExpressionEngine Easy iCalendar plugin//NONSGML v2.0.0//EN
X-WR-TIMEZONE:America/Chicago
X-WR-CALNAME:Upcoming Auctions
BEGIN:VEVENT
UID:152826
DTSTAMP:20251126T100000
DTSTART:20251126T100000
DTEND:20251215T183000
SUMMARY:Michael Bennett Estate
LOCATION:W5308 290th Ave\, Bay City\, WI 54723\, US
DESCRIPTION:Located at W5308 290th Ave Bay City\, WI 54723. OPEN HOUSES: 
 Thursday\, December 11th from 3-5pm & Monday\, December 15th f
 rom 3-5pm
URL:https://www.hinesauctionservice.com/auctions/detail/bw152826
SEQUENCE:1
END:VEVENT
END:VCALENDAR