BEGIN:VCALENDAR
VERSION:2.0
PRODID:-//ExpressionEngine Easy iCalendar plugin//NONSGML v2.0.0//EN
X-WR-TIMEZONE:America/Guatemala
X-WR-CALNAME:Upcoming Auctions
BEGIN:VEVENT
UID:152464
DTSTAMP:20251119T100000
DTSTART:20251119T100000
DTEND:20251209T183000
SUMMARY:Paquette Personal Property
LOCATION:317 East Harmon Ave\, Granstburg\, WI 54840\, US
DESCRIPTION:Located at 317 East Harmon Ave Grantsburg\, WI 54840. OPEN HO
 USES: Thursday\, December 4th from 3-5pm and Tuesday\, Decemb
 er 9th from 3-5pm  
URL:https://www.hinesauctionservice.com/auctions/detail/bw152464
SEQUENCE:1
END:VEVENT
END:VCALENDAR