BEGIN:VCALENDAR
VERSION:2.0
PRODID:-//ExpressionEngine Easy iCalendar plugin//NONSGML v2.0.1//EN
X-WR-TIMEZONE:America/Chicago
X-WR-CALNAME:Upcoming Auctions
BEGIN:VEVENT
UID:152142
DTSTAMP:20251111T120000
DTSTART:20251111T120000
DTEND:20251125T183000
SUMMARY:November Vehicles\, Machinery\, Furniture and Collectibles (ho
 t pink tag)
LOCATION:107 County Road C\, Ellsworth\, WI 54011\, US
DESCRIPTION:Hines Online Facility 107 County Road C Ellsworth WI
URL:https://www.hinesauctionservice.com/auctions/detail/bw152142
SEQUENCE:1
END:VEVENT
END:VCALENDAR