BEGIN:VCALENDAR
VERSION:2.0
PRODID:-//ExpressionEngine Easy iCalendar plugin//NONSGML v2.0.1//EN
X-WR-TIMEZONE:America/Chicago
X-WR-CALNAME:Upcoming Auctions
BEGIN:VEVENT
UID:152140
DTSTAMP:20251112T120000
DTSTART:20251112T120000
DTEND:20251124T183000
SUMMARY:Commercial Sewing Machine\, Dept. 56\, Fine Glassware\, Christm
 as and Antiques (gold tag)
LOCATION:107 County Road C\, Ellsworth \, WI 54011\, US
DESCRIPTION:Hines Online Facility 107 County Road C Ellsworth Wi 54011
URL:https://www.hinesauctionservice.com/auctions/detail/bw152140
SEQUENCE:1
END:VEVENT
END:VCALENDAR