BEGIN:VCALENDAR
VERSION:2.0
PRODID:-//ExpressionEngine Easy iCalendar plugin//NONSGML v2.0.1//EN
X-WR-TIMEZONE:America/Chicago
X-WR-CALNAME:Upcoming Auctions
BEGIN:VEVENT
UID:152026
DTSTAMP:20251110T120000
DTSTART:20251110T120000
DTEND:20251124T183000
SUMMARY:2012 Jayco Camper
LOCATION:900 Kasson Rd\, Prescott\, WI 54021\, US
DESCRIPTION:Located St. Croix Storage - 900 Kasson Rd Prescott\, WI 54021
URL:https://www.hinesauctionservice.com/auctions/detail/bw152026
SEQUENCE:1
END:VEVENT
END:VCALENDAR