BEGIN:VCALENDAR
VERSION:2.0
PRODID:-//ExpressionEngine Easy iCalendar plugin//NONSGML v2.0.1//EN
X-WR-TIMEZONE:America/Chicago
X-WR-CALNAME:Upcoming Auctions
BEGIN:VEVENT
UID:151931
DTSTAMP:20251110T120000
DTSTART:20251110T120000
DTEND:20251204T183000
SUMMARY:Model Trains #4 and Models (orange tag)
LOCATION:107 County Road C\, Ellsworth\, WI 54011\, US
DESCRIPTION:107 County Road C Ellsworth WI 54011
URL:https://www.hinesauctionservice.com/auctions/detail/bw151931
SEQUENCE:1
END:VEVENT
END:VCALENDAR