BEGIN:VCALENDAR
VERSION:2.0
PRODID:-//ExpressionEngine Easy iCalendar plugin//NONSGML v2.0.1//EN
X-WR-TIMEZONE:America/Chicago
X-WR-CALNAME:Upcoming Auctions
BEGIN:VEVENT
UID:151927
DTSTAMP:20251114T100000
DTSTART:20251114T100000
DTEND:20251201T183000
SUMMARY:David
LOCATION:497 12 1/2 Ave\, Almena \, WI 54805\, US
DESCRIPTION:Located at 497 12 1/2 Ave Almena\, WI 54805. OPEN HOUSES: Tu
 esday\, November 25th from 3-5pm & Monday\, December 1st from 
 3-5pm
URL:https://www.hinesauctionservice.com/auctions/detail/bw151927
SEQUENCE:1
END:VEVENT
END:VCALENDAR