BEGIN:VCALENDAR
VERSION:2.0
PRODID:-//ExpressionEngine Easy iCalendar plugin//NONSGML v2.0.0//EN
X-WR-TIMEZONE:America/Chicago
X-WR-CALNAME:Upcoming Auctions
BEGIN:VEVENT
UID:151925
DTSTAMP:20251120T100000
DTSTART:20251120T100000
DTEND:20251208T183000
SUMMARY:Ricky Johnson Estate
LOCATION:23261 Lofton Ct N\, Scandia\, MN 55073\, US
DESCRIPTION:Located at 23261 Lofton Ct N Scandia\, MN 55073. OPEN HOUSES:
  Wednesday\, December 3rd from 3-5pm & Monday\, December 8th f
 rom 3-5pm
URL:https://www.hinesauctionservice.com/auctions/detail/bw151925
SEQUENCE:1
END:VEVENT
END:VCALENDAR