BEGIN:VCALENDAR
VERSION:2.0
PRODID:-//ExpressionEngine Easy iCalendar plugin//NONSGML v2.0.1//EN
X-WR-TIMEZONE:America/Chicago
X-WR-CALNAME:Upcoming Auctions
BEGIN:VEVENT
UID:151656
DTSTAMP:20251105T100000
DTSTART:20251105T100000
DTEND:20251120T183000
SUMMARY:Braun Personal Property
LOCATION:29777 S Nicaboyne Lake Rd\, Danbury\, WI 54830\, US
DESCRIPTION:Located at 29777 S Nicaboyne Lake Rd Danbury\, WI 54830. OPE
 N HOUSES: Monday\, November 17th from 3-5pm & Thursday\, Novem
 ber 20th from 3-5pm
URL:https://www.hinesauctionservice.com/auctions/detail/bw151656
SEQUENCE:1
END:VEVENT
END:VCALENDAR