BEGIN:VCALENDAR
VERSION:2.0
PRODID:-//ExpressionEngine Easy iCalendar plugin//NONSGML v2.0.1//EN
X-WR-TIMEZONE:America/Chicago
X-WR-CALNAME:Upcoming Auctions
BEGIN:VEVENT
UID:151466
DTSTAMP:20251105T100000
DTSTART:20251105T100000
DTEND:20251117T183000
SUMMARY:Vlack Personal Property
LOCATION:{location}
DESCRIPTION:Located at 440 River Hills Rd River Falls\, WI 54022. OPEN HO
 USES: Thursday\, November 13th from 3-5pm & Monday\, November 
 17th from 3-5pm
URL:https://www.hinesauctionservice.com/auctions/detail/bw151466
SEQUENCE:1
END:VEVENT
END:VCALENDAR