BEGIN:VCALENDAR
VERSION:2.0
PRODID:-//ExpressionEngine Easy iCalendar plugin//NONSGML v2.0.1//EN
X-WR-TIMEZONE:America/Chicago
X-WR-CALNAME:Upcoming Auctions
BEGIN:VEVENT
UID:151105
DTSTAMP:20251027T100000
DTSTART:20251027T100000
DTEND:20251112T183000
SUMMARY:Bonnie Peterson Estate
LOCATION:N5199 860th St\, Ellsworth\, WI 54011\, US
DESCRIPTION:Located at N5199 860th St Ellsworth\, WI 54011. OPEN HOUSES: 
 Thursday\, November 6th from 3-5pm & Wednesday\, November 12th
  from 3-5pm.
URL:https://www.hinesauctionservice.com/auctions/detail/bw151105
SEQUENCE:1
END:VEVENT
END:VCALENDAR