BEGIN:VCALENDAR
VERSION:2.0
PRODID:-//ExpressionEngine Easy iCalendar plugin//NONSGML v2.0.0//EN
X-WR-TIMEZONE:America/Chicago
X-WR-CALNAME:Upcoming Auctions
BEGIN:VEVENT
UID:150866
DTSTAMP:20251023T100000
DTSTART:20251023T100000
DTEND:20251028T183000
SUMMARY:Storage Unit Auction-Ellsworth Location
LOCATION:628 W. Cairns St\, Ellsworth \, WI 54011\, US
DESCRIPTION:Located at MC Storage 628 W Cairns St. Ellsworth WI 54011
URL:https://www.hinesauctionservice.com/auctions/detail/bw150866
SEQUENCE:1
END:VEVENT
END:VCALENDAR