BEGIN:VCALENDAR
VERSION:2.0
PRODID:-//ExpressionEngine Easy iCalendar plugin//NONSGML v2.0.0//EN
X-WR-TIMEZONE:America/Chicago
X-WR-CALNAME:Upcoming Auctions
BEGIN:VEVENT
UID:150112
DTSTAMP:20251010T100000
DTSTART:20251010T100000
DTEND:20251027T183000
SUMMARY:Loon Organics
LOCATION:23229 200th St \, Hutchinson\, MN 55350\, US
DESCRIPTION:Located at 23229 200th St Hutchinson\, MN 55350. OPEN HOUSES:
  Wednesday\, October 22nd from 3-5pm & Monday\, October 27th f
 rom 3-5pm.
URL:https://www.hinesauctionservice.com/auctions/detail/bw150112
SEQUENCE:1
END:VEVENT
END:VCALENDAR