BEGIN:VCALENDAR
VERSION:2.0
PRODID:-//ExpressionEngine Easy iCalendar plugin//NONSGML v2.0.1//EN
X-WR-TIMEZONE:America/Chicago
X-WR-CALNAME:Upcoming Auctions
BEGIN:VEVENT
UID:149971
DTSTAMP:20251009T100000
DTSTART:20251009T100000
DTEND:20251103T183000
SUMMARY:NELA-USA - Machine Shop Liquidation
LOCATION:610 Whitetail Blvd\, River Falls\, WI 54022\, US
DESCRIPTION:Located at 610 Whitetail Blvd River Falls\, WI 54022. OPEN HO
 USES: Tuesday\, October 28th from 2-4pm & Monday\, November 3
 rd from 2-4pm
URL:https://www.hinesauctionservice.com/auctions/detail/bw149971
SEQUENCE:1
END:VEVENT
END:VCALENDAR