BEGIN:VCALENDAR
VERSION:2.0
PRODID:-//ExpressionEngine Easy iCalendar plugin//NONSGML v2.0.1//EN
X-WR-TIMEZONE:America/Chicago
X-WR-CALNAME:Upcoming Auctions
BEGIN:VEVENT
UID:149509
DTSTAMP:20251024T100000
DTSTART:20251024T100000
DTEND:20251111T183000
SUMMARY:November Firearms\, Sporting & Silver Bars (blue tag)
LOCATION:107 County Road C\, Ellsworth\, WI 54011\, US
DESCRIPTION:Located at the Hines Online Facility 107 County Road C Ellsw
 orth WI 54011. OPEN Monday-Friday 9am-5pm
URL:https://www.hinesauctionservice.com/auctions/detail/bw149509
SEQUENCE:1
END:VEVENT
END:VCALENDAR