BEGIN:VCALENDAR
VERSION:2.0
PRODID:-//ExpressionEngine Easy iCalendar plugin//NONSGML v2.0.1//EN
X-WR-TIMEZONE:America/Chicago
X-WR-CALNAME:Upcoming Auctions
BEGIN:VEVENT
UID:149023
DTSTAMP:20251014T203000
DTSTART:20251014T203000
DTEND:20251030T183000
SUMMARY:Model Trains #2 and Die-Cast (hot pink tag)
LOCATION:107 County Road C\, Ellsworth\, WI 54011\, US
DESCRIPTION:Hines Online Facility 107 County Road C Ellsworth WI 54011
URL:https://www.hinesauctionservice.com/auctions/detail/bw149023
SEQUENCE:1
END:VEVENT
END:VCALENDAR