BEGIN:VCALENDAR
VERSION:2.0
PRODID:-//ExpressionEngine Easy iCalendar plugin//NONSGML v2.0.0//EN
X-WR-TIMEZONE:America/Chicago
X-WR-CALNAME:Upcoming Auctions
BEGIN:VEVENT
UID:142612
DTSTAMP:20250618T113200
DTSTART:20250618T113200
DTEND:20250707T183000
SUMMARY:Farm Gates and Fencing Supplies
LOCATION:N1501 Buck Lane\, Pepin\, WI 54759\, US
DESCRIPTION:Located at N1501 Buck Lane Pepin Wi 54759
URL:https://www.hinesauctionservice.com/auctions/detail/bw142612
SEQUENCE:1
END:VEVENT
END:VCALENDAR