BEGIN:VCALENDAR
VERSION:2.0
PRODID:-//ExpressionEngine Easy iCalendar plugin//NONSGML v2.0.1//EN
X-WR-TIMEZONE:America/Chicago
X-WR-CALNAME:Upcoming Auctions
BEGIN:VEVENT
UID:140935
DTSTAMP:20250519T203700
DTSTART:20250519T203700
DTEND:20250605T183000
SUMMARY:Camper\, Vehicles. Emergency Lights\, Tapper Handles and Preci
 sion Tools (gold tag)
LOCATION:107 County Road C\, Ellsworth\, WI 54011\, US
DESCRIPTION:Hines Online Facility 107 County Road C Ellsworth WI 54011
URL:https://www.hinesauctionservice.com/auctions/detail/bw140935
SEQUENCE:1
END:VEVENT
END:VCALENDAR