BEGIN:VCALENDAR
VERSION:2.0
PRODID:-//ExpressionEngine Easy iCalendar plugin//NONSGML v2.0.0//EN
X-WR-TIMEZONE:America/Chicago
X-WR-CALNAME:Upcoming Auctions
BEGIN:VEVENT
UID:140018
DTSTAMP:20250502T142200
DTSTART:20250502T142200
DTEND:20250515T183000
SUMMARY:Farm Machinery\, Vehicles and Outdoor (blue tag)
LOCATION:107 County Road\, Ellsworth \, WI 54011\, US
DESCRIPTION:Hines Online Facility 107 County Road C Ellsworth WI 54011
URL:https://www.hinesauctionservice.com/auctions/detail/bw140018
SEQUENCE:1
END:VEVENT
END:VCALENDAR