BEGIN:VCALENDAR
VERSION:2.0
PRODID:-//ExpressionEngine Easy iCalendar plugin//NONSGML v2.0.0//EN
X-WR-TIMEZONE:America/Chicago
X-WR-CALNAME:Upcoming Auctions
BEGIN:VEVENT
UID:139373
DTSTAMP:20250422T100000
DTSTART:20250422T100000
DTEND:20250505T183000
SUMMARY:Tools\, Household & Storage
LOCATION:1092 Golden Oaks Rd\, Hudson\, WI 54016\, US
DESCRIPTION:Located at 1092 Golden Oaks Rd Hudson\, WI 54016. OPEN HOUSE:
  Friday\, May 2nd from 3-5pm
URL:https://www.hinesauctionservice.com/auctions/detail/bw139373
SEQUENCE:1
END:VEVENT
END:VCALENDAR