BEGIN:VCALENDAR
VERSION:2.0
PRODID:-//ExpressionEngine Easy iCalendar plugin//NONSGML v2.0.0//EN
X-WR-TIMEZONE:America/Chicago
X-WR-CALNAME:Upcoming Auctions
BEGIN:VEVENT
UID:139134
DTSTAMP:20250516T100000
DTSTART:20250516T100000
DTEND:20250527T183000
SUMMARY:Building Materials\, Tools\, Metal Stock & Shipping
LOCATION:1437 7th St\, Houlton\, WI 54082\, US
DESCRIPTION:Located at 1437 7th St Houlton\, WI 54082. OPEN HOUSES: Tuesd
 ay\, May 20th from 3-5pm & Tuesday\, May 27th from 3-5pm
URL:https://www.hinesauctionservice.com/auctions/detail/bw139134
SEQUENCE:1
END:VEVENT
END:VCALENDAR