BEGIN:VCALENDAR
VERSION:2.0
PRODID:-//ExpressionEngine Easy iCalendar plugin//NONSGML v2.0.0//EN
X-WR-TIMEZONE:America/Chicago
X-WR-CALNAME:Upcoming Auctions
BEGIN:VEVENT
UID:138961
DTSTAMP:20250415T100000
DTSTART:20250415T100000
DTEND:20250429T183000
SUMMARY:Estate of Randall Lee Woolery
LOCATION:1920 Pine St W\, Stillwater\, MN 55082\, US
DESCRIPTION:Located at 1920 Pine St W Stillwater\, MN 55082. OPEN HOUSE: 
 Friday\, April 25th from 3-5pm (1 day only) 
URL:https://www.hinesauctionservice.com/auctions/detail/bw138961
SEQUENCE:1
END:VEVENT
END:VCALENDAR