BEGIN:VCALENDAR
VERSION:2.0
PRODID:-//ExpressionEngine Easy iCalendar plugin//NONSGML v2.0.0//EN
X-WR-TIMEZONE:America/Chicago
X-WR-CALNAME:Upcoming Auctions
BEGIN:VEVENT
UID:138251
DTSTAMP:20250402T100000
DTSTART:20250402T100000
DTEND:20250423T183000
SUMMARY:Schaar Tractors\, Trucks\, Machinery & Farm
LOCATION:W8236 County Rd KK \, Ellsworth \, WI 54011\, US
DESCRIPTION:Located at W8236 County Rd KK Ellsworth\, WI 54011. OPEN HOUS
 ES: Wednesday\, April 16th from 3-5pm & Wednesday\, April 23rd
  from 3-5pm
URL:https://www.hinesauctionservice.com/auctions/detail/bw138251
SEQUENCE:1
END:VEVENT
END:VCALENDAR