BEGIN:VCALENDAR
VERSION:2.0
PRODID:-//ExpressionEngine Easy iCalendar plugin//NONSGML v2.0.1//EN
X-WR-TIMEZONE:America/Chicago
X-WR-CALNAME:Upcoming Auctions
BEGIN:VEVENT
UID:137742
DTSTAMP:20250325T091700
DTSTART:20250325T091700
DTEND:20250407T183000
SUMMARY:Pedal Tractors\, License Plates\, Matchbox\, Sterling\, Tootsie 
 Toys and Antiques(gold tag)
LOCATION:107 County Road C\, Ellsworth \, WI WI\, US
DESCRIPTION:Hines Online Building 107 County Road C Ellsworth WI 
URL:https://www.hinesauctionservice.com/auctions/detail/bw137742
SEQUENCE:1
END:VEVENT
END:VCALENDAR