BEGIN:VCALENDAR
VERSION:2.0
PRODID:-//ExpressionEngine Easy iCalendar plugin//NONSGML v2.0.1//EN
X-WR-TIMEZONE:America/Chicago
X-WR-CALNAME:Upcoming Auctions
BEGIN:VEVENT
UID:137504
DTSTAMP:20250320T090000
DTSTART:20250320T090000
DTEND:20250407T183000
SUMMARY:Storage Unit Auction
LOCATION:900 Kasson Rd\, Prescott\, WI 54021\, US
DESCRIPTION:Located St. Croix Storage - 900 Kasson Rd Prescott\, WI 54021
URL:https://www.hinesauctionservice.com/auctions/detail/bw137504
SEQUENCE:1
END:VEVENT
END:VCALENDAR