BEGIN:VCALENDAR
VERSION:2.0
PRODID:-//ExpressionEngine Easy iCalendar plugin//NONSGML v2.0.0//EN
X-WR-TIMEZONE:America/Chicago
X-WR-CALNAME:Upcoming Auctions
BEGIN:VEVENT
UID:137303
DTSTAMP:20250318T100000
DTSTART:20250318T100000
DTEND:20250331T183000
SUMMARY:Proud's Bridgeside Antiques Liquidation
LOCATION:243 Main St W\, Wabasha\, MN 55981\, US
DESCRIPTION:Located at 234 Main St W Wabasha\, MN 55981. OPEN HOUSES: Wed
 nesday\, March 26th from 3-5pm & Monday\, March 31st from 3-5p
 m
URL:https://www.hinesauctionservice.com/auctions/detail/bw137303
SEQUENCE:1
END:VEVENT
END:VCALENDAR