BEGIN:VCALENDAR
VERSION:2.0
PRODID:-//ExpressionEngine Easy iCalendar plugin//NONSGML v2.0.1//EN
X-WR-TIMEZONE:America/Chicago
X-WR-CALNAME:Upcoming Auctions
BEGIN:VEVENT
UID:136578
DTSTAMP:20250310T180000
DTSTART:20250310T180000
DTEND:20250327T183000
SUMMARY:Railroad Collectibles\, Primitives\, Coins\, Antiques & Collect
 ibles (blue tag)
LOCATION:107 County Road C\, Ellsworth\, WI 54011\, US
DESCRIPTION:Hines Online Facility 107 County Road C Ellsworth WI 54011
URL:https://www.hinesauctionservice.com/auctions/detail/bw136578
SEQUENCE:1
END:VEVENT
END:VCALENDAR