BEGIN:VCALENDAR
VERSION:2.0
PRODID:-//ExpressionEngine Easy iCalendar plugin//NONSGML v2.0.1//EN
X-WR-TIMEZONE:America/Chicago
X-WR-CALNAME:Upcoming Auctions
BEGIN:VEVENT
UID:135943
DTSTAMP:20250220T100000
DTSTART:20250220T100000
DTEND:20250304T183000
SUMMARY:Kuhns Estate
LOCATION:1743 Cobblestone Ct\, Red Wing\, MN 55066\, US
DESCRIPTION:Located at 1743 Cobblestone Ct Red Wing\, MN 55066. OPEN HOUS
 E: Friday\, February 28th from 3-5pm.
URL:https://www.hinesauctionservice.com/auctions/detail/bw135943
SEQUENCE:1
END:VEVENT
END:VCALENDAR