BEGIN:VCALENDAR
VERSION:2.0
PRODID:-//ExpressionEngine Easy iCalendar plugin//NONSGML v2.0.0//EN
X-WR-TIMEZONE:America/Chicago
X-WR-CALNAME:Upcoming Auctions
BEGIN:VEVENT
UID:132198
DTSTAMP:20241204T100000
DTSTART:20241204T100000
DTEND:20241218T183000
SUMMARY:Eds Auto Body - Ed & LouAnn Greinke
LOCATION:22890 Old 35\, Siren\, WI 54872\, US
DESCRIPTION:Located at 22890 Old 35 Siren\, WI 54872. OPEN HOUSES: Friday
 \, December 13th from 3-5pm & Wednesday\, December 18th from 3
 -5pm.
URL:https://www.hinesauctionservice.com/auctions/detail/bw132198
SEQUENCE:1
END:VEVENT
END:VCALENDAR