BEGIN:VCALENDAR
VERSION:2.0
PRODID:-//ExpressionEngine Easy iCalendar plugin//NONSGML v2.0.1//EN
X-WR-TIMEZONE:America/Chicago
X-WR-CALNAME:Upcoming Auctions
BEGIN:VEVENT
UID:128924
DTSTAMP:20241003T204000
DTSTART:20241003T204000
DTEND:20241028T183000
SUMMARY:Sporting\, Shop Auto Manuals\, Jewelry and Collectibles (pink 
 tag)
LOCATION:107 County Road C\, Ellsworth\, WI 54011\, US
DESCRIPTION:Hines Online Facility 107 County Road C Ellsworth WI 54011
URL:https://www.hinesauctionservice.com/auctions/detail/bw128924
SEQUENCE:1
END:VEVENT
END:VCALENDAR