BEGIN:VCALENDAR
VERSION:2.0
PRODID:-//ExpressionEngine Easy iCalendar plugin//NONSGML v2.0.1//EN
X-WR-TIMEZONE:America/Chicago
X-WR-CALNAME:Upcoming Auctions
BEGIN:VEVENT
UID:126230
DTSTAMP:20240820T100000
DTSTART:20240820T100000
DTEND:20240923T180000
SUMMARY:Real Estate Online Only
LOCATION:{location}
DESCRIPTION:Located at N2975 985th St Hager City (Diamond Bluff)\, WI 540
 14. OPEN HOUSE: Tuesday\, September 17th from 3-5pm & Monday\,
  September 23rd from 5-6pm
URL:https://www.hinesauctionservice.com/auctions/detail/bw126230
SEQUENCE:1
END:VEVENT
END:VCALENDAR