BEGIN:VCALENDAR
VERSION:2.0
PRODID:-//ExpressionEngine Easy iCalendar plugin//NONSGML v2.0.1//EN
X-WR-TIMEZONE:America/Chicago
X-WR-CALNAME:Upcoming Auctions
BEGIN:VEVENT
UID:126223
DTSTAMP:20240820T100000
DTSTART:20240820T100000
DTEND:20240916T183000
SUMMARY:Complete Estate Dispersal - Collector Cars\, Trailers\, Tools\,
  Art & Household
LOCATION:{location}
DESCRIPTION:Located at 670 200th Ave Somerset\, WI 54025. OPEN HOUSES: Th
 ursday\, September 12th from 3-5pm & Monday\, September 16th f
 rom 3-5pm
URL:https://www.hinesauctionservice.com/auctions/detail/bw126223
SEQUENCE:1
END:VEVENT
END:VCALENDAR