BEGIN:VCALENDAR
VERSION:2.0
PRODID:-//ExpressionEngine Easy iCalendar plugin//NONSGML v2.0.1//EN
X-WR-TIMEZONE:America/Chicago
X-WR-CALNAME:Upcoming Auctions
BEGIN:VEVENT
UID:125949
DTSTAMP:20240819T204600
DTSTART:20240819T204600
DTEND:20240909T183000
SUMMARY:Die-Cast Tractors\, Crocks\, Sporting and Vintage Toys (purple
  tag)
LOCATION:107 County Road C\, Ellsworth\, WI 54011\, US
DESCRIPTION:Hines Online Facility 107 County Road C Ellsworth WI 54011
URL:https://www.hinesauctionservice.com/auctions/detail/bw125949
SEQUENCE:1
END:VEVENT
END:VCALENDAR