BEGIN:VCALENDAR
VERSION:2.0
PRODID:-//ExpressionEngine Easy iCalendar plugin//NONSGML v2.0.1//EN
X-WR-TIMEZONE:America/Chicago
X-WR-CALNAME:Upcoming Auctions
BEGIN:VEVENT
UID:125271
DTSTAMP:20240806T202800
DTSTART:20240806T202800
DTEND:20240820T183000
SUMMARY:Dept 56\, Coins\, Primitives and Antiques (mint green)
LOCATION:107 County Road C\, Ellsworth\, WI 54011\, US
DESCRIPTION:Hines Online Facility 107 County Road C Ellsworth WI 54011
URL:https://www.hinesauctionservice.com/auctions/detail/bw125271
SEQUENCE:1
END:VEVENT
END:VCALENDAR