BEGIN:VCALENDAR
VERSION:2.0
PRODID:-//ExpressionEngine Easy iCalendar plugin//NONSGML v2.0.1//EN
X-WR-TIMEZONE:America/Chicago
X-WR-CALNAME:Upcoming Auctions
BEGIN:VEVENT
UID:124682
DTSTAMP:20240725T154100
DTSTART:20240725T154100
DTEND:20240808T183000
SUMMARY:Beer Collectibles\, Antiques\, Jewelry and Toys (purple tag)
LOCATION:107 County Road C\, Ellsworth\, WI 54011\, US
DESCRIPTION:Hines Online Facility 107 County Road C Ellsworth WI 54011
URL:https://www.hinesauctionservice.com/auctions/detail/bw124682
SEQUENCE:1
END:VEVENT
END:VCALENDAR