BEGIN:VCALENDAR
VERSION:2.0
PRODID:-//ExpressionEngine Easy iCalendar plugin//NONSGML v2.0.1//EN
X-WR-TIMEZONE:America/Chicago
X-WR-CALNAME:Upcoming Auctions
BEGIN:VEVENT
UID:123846
DTSTAMP:20240710T183000
DTSTART:20240710T183000
DTEND:20240729T183000
SUMMARY:Vehicles\, Tools\, Lawn & Garden
LOCATION:{location}
DESCRIPTION:Located at W7097 770th Ave Beldenville\, WI 54003. OPEN HOUSE
 S: Tuesday\, July 23rd from 3-5pm and Monday\, July 29th from
  3-5pm
URL:https://www.hinesauctionservice.com/auctions/detail/bw123846
SEQUENCE:1
END:VEVENT
END:VCALENDAR