BEGIN:VCALENDAR
VERSION:2.0
PRODID:-//ExpressionEngine Easy iCalendar plugin//NONSGML v2.0.1//EN
X-WR-TIMEZONE:America/Chicago
X-WR-CALNAME:Upcoming Auctions
BEGIN:VEVENT
UID:123694
DTSTAMP:20240709T183500
DTSTART:20240709T183500
DTEND:20240730T183000
SUMMARY:Outdoor Sporting\, Vintage Models\, Toys\, Jewelry and Antiques
  (yellow tag)
LOCATION:107 County Road C\, Ellsworth\, WI 54011\, US
DESCRIPTION:Hines Online Facility 107 County Road C Ellsworth WI 54011
URL:https://www.hinesauctionservice.com/auctions/detail/bw123694
SEQUENCE:1
END:VEVENT
END:VCALENDAR